{"text_format":"1","workbook":"xlsx","n_sheets":20,"sheets":["Forside","Resultatark","Øvelse_01","Øvelse_02","Øvelse_03","Øvelse_04","Øvelse_05","Øvelse_06","Øvelse_07","Øvelse_08","Øvelse_09","Øvelse_01 (2)","Øvelse_02 (2)","Øvelse_03 (2)","Øvelse_04 (2)","Øvelse_05 (2)","Øvelse_06 (2)","Øvelse_07 (2)","Øvelse_08 (2)","Øvelse_09 (2)"],"not_rendered":{"charts":0,"images":2,"macros":1,"external_links":0,"defined_names":0,"comments":0,"pivot_tables":0},"unopened":[],"bounds":{"document_bytes":16777216,"sheet_cells":100000,"rows_first":2000,"rows_last":500,"rows_between":2000,"halvings":0,"cell_chars":16384,"cell_head_chars":4096},"cells_cut":0,"cells_raw":0,"read":"whole","date_system":"1900"}

{"sheet":"Forside","index":0,"n_rows":26,"n_cols":17,"rows_kept":26,"cut":false,"hidden":false,"merged":[[10,12,10,17]]}
[]
[]
[]
[]
[]
[null,null,null,null,null,null,null,"Øvelser i præfikser"]
[]
[null,null,null,null,null,null,null,"Øvelse_01 til øvelse_09 i fanerne herunder."]
[]
[]
[null,null,null,null,null,null,null,null,null,null,null,"Navn:"]
[]
[]
[]
[]
[]
[]
[]
[]
[]
[]
[]
[]
[]
[]
[null,null,null,null,null,null,null,null,null,null,null,"Mappen med øvelserne gemmes og sendes til:",null,null,null,null,"sjo@learnmark.dk"]

{"sheet":"Resultatark","index":1,"n_rows":21,"n_cols":4,"rows_kept":21,"cut":false,"hidden":false,"merged":[]}
["Præfiksøvelser resultatark"]
[null,"Antal opgaver","Antal Rigtige","Procent"]
["Øvelse_01",4,{"$f":"'Øvelse_01 (2)'!J12","v":0},{"$f":"C3/B3","v":0}]
[]
["Øvelse_02",5,{"$f":"'Øvelse_02 (2)'!L11","v":0},{"$f":"C5/B5","v":0}]
[]
["Øvelse_03",4,{"$f":"'Øvelse_03 (2)'!I19","v":0},0]
[]
["Øvelse_04",5,{"$f":"'Øvelse_04 (2)'!AB18","v":0},0]
[]
["Øvelse_05",20,{"$f":"'Øvelse_05 (2)'!P25","v":0},0]
[]
["Øvelse_06",20,{"$f":"'Øvelse_06 (2)'!Q26","v":0},0]
[]
["Øvelse_07",36,{"$f":"'Øvelse_07 (2)'!J41","v":0},0]
[]
["Øvelse_08",50,{"$f":"'Øvelse_08 (2)'!T35","v":0},0]
[]
["Øvelse_09",39,{"$f":"'Øvelse_09 (2)'!S30","v":0},0]
[]
["I alt",{"$f":"SUM(B3:B19)","v":183},{"$f":"SUM(C3:C19)","v":0},0]

{"sheet":"Øvelse_01","index":2,"n_rows":10,"n_cols":7,"rows_kept":10,"cut":false,"hidden":false,"merged":[]}
["Øvelse _01"]
[]
[null,"Anvend den viste fremgangsmåde:"]
[]
[null,null,null,null,"Svar"]
[null,null,null,null,"Antal","Præfiks"]
[null,1000,"V","=",null,"kV",{"$f":"IF(E7=\"\",\"\",IF('Øvelse_01 (2)'!I7=1,\"OK!\",\"-\"))","v":""}]
[null,1E-3,"A","=",null,"mA",{"$f":"IF(E8=\"\",\"\",IF('Øvelse_01 (2)'!I8=1,\"OK!\",\"-\"))","v":""}]
[null,9.9999999999999995E-7,"A","=",null,"µA",{"$f":"IF(E9=\"\",\"\",IF('Øvelse_01 (2)'!I9=1,\"OK!\",\"-\"))","v":""}]
[null,2.2999999999999999E-7,"F","=",null,"nF",{"$f":"IF(E10=\"\",\"\",IF('Øvelse_01 (2)'!I10=1,\"OK!\",\"-\"))","v":""}]

{"sheet":"Øvelse_02","index":3,"n_rows":12,"n_cols":10,"rows_kept":12,"cut":false,"hidden":false,"merged":[]}
["Øvelse _02"]
[null,"Beregn eksponenten:"]
[]
["Eksempel:",10,2,"*",10,4,"=",10,6]
[null,10,3,"*",10,7,"=",10,null,{"$f":"IF(I5=\"\",\"\",IF('Øvelse_02 (2)'!K5=1,\"OK!\",\"-\"))","v":""}]
[null,10,8,"*",10,1,"=",10,null,{"$f":"IF(I6=\"\",\"\",IF('Øvelse_02 (2)'!K6=1,\"OK!\",\"-\"))","v":""}]
[null,10,3,"*",10,-2,"=",10,null,{"$f":"IF(I7=\"\",\"\",IF('Øvelse_02 (2)'!K7=1,\"OK!\",\"-\"))","v":""}]
[null,10,4,"*",10,-3,"=",10,null,{"$f":"IF(I8=\"\",\"\",IF('Øvelse_02 (2)'!K8=1,\"OK!\",\"-\"))","v":""}]
[null,10,8,"*",10,-3,"=",10,null,{"$f":"IF(I9=\"\",\"\",IF('Øvelse_02 (2)'!K9=1,\"OK!\",\"-\"))","v":""}]
[null,null,null,null,null,null,null,null," "]
[]
[null,null,null,null,null,null,null,null," "]

{"sheet":"Øvelse_03","index":4,"n_rows":17,"n_cols":7,"rows_kept":17,"cut":false,"hidden":false,"merged":[[12,3,13,3],[12,4,13,4],[15,3,16,3],[15,4,16,4],[3,3,4,3],[3,4,4,4],[6,3,7,3],[6,4,7,4],[9,3,10,3],[9,4,10,4]]}
["Øvelse _03"]
[null,"Beregn eksponenten:"]
[]
["Eksempel:",10,5,"=",10,2]
[null,10,3]
[]
[null,10,8,"=",10,null,{"$f":"IF(F7=\"\",\"\",IF('Øvelse_03 (2)'!H7=1,\"OK!\",\"-\"))","v":""}]
[null,10,4]
[]
[null,10,3,"=",10,null,{"$f":"IF(F10=\"\",\"\",IF('Øvelse_03 (2)'!H10=1,\"OK!\",\"-\"))","v":""}]
[null,10,-2]
[]
[null,10,2,"=",10,null,{"$f":"IF(F13=\"\",\"\",IF('Øvelse_03 (2)'!H13=1,\"OK!\",\"-\"))","v":""}]
[null,10,-6]
[]
[null,10,6,"=",10,null,{"$f":"IF(F16=\"\",\"\",IF('Øvelse_03 (2)'!H16=1,\"OK!\",\"-\"))","v":""}]
[null,10,2]

{"sheet":"Øvelse_04","index":5,"n_rows":16,"n_cols":21,"rows_kept":16,"cut":false,"hidden":false,"merged":[[10,2,11,2],[10,5,11,5],[10,6,11,6],[10,8,11,8],[4,5,5,5],[4,6,5,6],[4,8,5,8],[4,9,5,9],[4,2,5,2],[7,2,8,2],[7,5,8,5],[7,6,8,6],[7,8,8,8]]}
["Øvelse _04"]
[]
[null,"Beregn følgende præfikser:"]
[]
["Eksempel:","M","=",10,6,"=",10,3,"=","k",null,null,null,null,null,null,"V","A","Ω","F","H"]
[null,"k",null,10,3]
[null,null,null,null,null,null,null,null,null,null,null,null,null,null,null,"T","TV","TA","TΩ","TF","TH"]
[null,"m","=",10,null,"=",10,null,"=",null,null,null,null,{"$f":"IF(J8=\"\",\"\",IF('Øvelse_04 (2)'!AA8=1,\"OK!\",\"-\"))","v":""},null,"G","GV","GA","GΩ","GF","GH"]
[null,"μ",null,10,null,null,null,null,null,null,null,null,null,null,null,"M","MV","MA","MΩ","MF","MH"]
[null,null,null,null,null,null,null,null,null,null,null,null,null,null,null,"k","kV","kA","kΩ","kF","kH"]
[null,"m","=",10,null,"=",10,null,"=",null,null,null,null,{"$f":"IF(J11=\"\",\"\",IF('Øvelse_04 (2)'!AA11=1,\"OK!\",\"-\"))","v":""},null,null,"E","E","E","E","E"]
[null,"M",null,10,null,null,null,null,null,null,null,null,null,null,null,"m","mV","mA","mΩ","mF","mH"]
[null,null,null,null,null,null,null,null,null,null,null,null,null,null,null,"μ","μV","μA","μΩ","μF","μH"]
[null,"M*m","=",10,null,"*",10,null,"=",10,null,"=",null,{"$f":"IF(M14=\"\",\"\",IF('Øvelse_04 (2)'!AA14=1,\"OK!\",\"-\"))","v":""},null,"n","nV","nA","nΩ","nF","nH"]
[null,"k*μ","=",10,null,"*",10,null,"=",10,null,"=",null,{"$f":"IF(M15=\"\",\"\",IF('Øvelse_04 (2)'!AA15=1,\"OK!\",\"-\"))","v":""},null,"p","pV","pA","pΩ","pF","pH"]
[null,"μ*m","=",10,null,"*",10,null,"=",10,null,"=",null,{"$f":"IF(M16=\"\",\"\",IF('Øvelse_04 (2)'!AA16=1,\"OK!\",\"-\"))","v":""}]

{"sheet":"Øvelse_05","index":6,"n_rows":24,"n_cols":20,"rows_kept":24,"cut":false,"hidden":false,"merged":[]}
["Øvelse _05"]
[null,"Multiplikation af præfikser."]
[null," ",null,null,null,null,null,null,null,null,null,"Præfiks"]
["Eksempel:",null,"m*k",10,-3,"*",10,3,"=",10,0,"E",null,null,null,"V","A","Ω","F","H"]
[null,1,"µ*k",10,null,"*",10,null,"=",10,null,null,{"$f":"IF(L5=\"\",\"\",IF('Øvelse_05 (2)'!O4=1,\"OK!\",\"-\"))","v":""},{"$f":"'Øvelse_05 (2)'!O4","v":0}]
[null,2,"K*M",10,null,"*",10,null,"=",10,null,null,{"$f":"IF(L6=\"\",\"\",IF('Øvelse_05 (2)'!O5=1,\"OK!\",\"-\"))","v":""},null,"T","TV","TA","TΩ","TF","TH"]
[null,3,"G*p",10,null,"*",10,null,"=",10,null,null,{"$f":"IF(L7=\"\",\"\",IF('Øvelse_05 (2)'!O6=1,\"OK!\",\"-\"))","v":""},null,"G","GV","GA","GΩ","GF","GH"]
[null,4,"M*n",10,null,"*",10,null,"=",10,null,null,{"$f":"IF(L8=\"\",\"\",IF('Øvelse_05 (2)'!O7=1,\"OK!\",\"-\"))","v":""},null,"M","MV","MA","MΩ","MF","MH"]
[null,5,"k*p ",10,null,"*",10,null,"=",10,null,null,{"$f":"IF(L9=\"\",\"\",IF('Øvelse_05 (2)'!O8=1,\"OK!\",\"-\"))","v":""},null,"k","kV","kA","kΩ","kF","kH"]
[null,6,"µ*p",10,null,"*",10,null,"=",10,null,null,{"$f":"IF(L10=\"\",\"\",IF('Øvelse_05 (2)'!O9=1,\"OK!\",\"-\"))","v":""},null,null,"E","E","E","E","E"]
[null,7,"M*µ",10,null,"*",10,null,"=",10,null,null,{"$f":"IF(L11=\"\",\"\",IF('Øvelse_05 (2)'!O10=1,\"OK!\",\"-\"))","v":""},null,"m","mV","mA","mΩ","mF","mH"]
[null,8,"m *m",10,null,"*",10,null,"=",10,null,null,{"$f":"IF(L12=\"\",\"\",IF('Øvelse_05 (2)'!O11=1,\"OK!\",\"-\"))","v":""},null,"μ","μV","μA","μΩ","μF","μH"]
[null,9,"p*E",10,null,"*",10,null,"=",10,null,null,{"$f":"IF(L13=\"\",\"\",IF('Øvelse_05 (2)'!O12=1,\"OK!\",\"-\"))","v":""},null,"n","nV","nA","nΩ","nF","nH"]
[null,10,"K*k",10,null,"*",10,null,"=",10,null,null,{"$f":"IF(L14=\"\",\"\",IF('Øvelse_05 (2)'!O13=1,\"OK!\",\"-\"))","v":""},null,"p","pV","pA","pΩ","pF","pH"]
[null,11,"p*T",10,null,"*",10,null,"=",10,null,null,{"$f":"IF(L15=\"\",\"\",IF('Øvelse_05 (2)'!O14=1,\"OK!\",\"-\"))","v":""}]
[null,12,"n * k ",10,null,"*",10,null,"=",10,null,null,{"$f":"IF(L16=\"\",\"\",IF('Øvelse_05 (2)'!O15=1,\"OK!\",\"-\"))","v":""}]
[null,13,"µ*E",10,null,"*",10,null,"=",10,null,null,{"$f":"IF(L17=\"\",\"\",IF('Øvelse_05 (2)'!O16=1,\"OK!\",\"-\"))","v":""}]
[null,14,"M*M",10,null,"*",10,null,"=",10,null,null,{"$f":"IF(L18=\"\",\"\",IF('Øvelse_05 (2)'!O17=1,\"OK!\",\"-\"))","v":""}]
[null,15,"E*E",10,null,"*",10,null,"=",10,null,null,{"$f":"IF(L19=\"\",\"\",IF('Øvelse_05 (2)'!O18=1,\"OK!\",\"-\"))","v":""}]
[null,16,"m *µ",10,null,"*",10,null,"=",10,null,null,{"$f":"IF(L20=\"\",\"\",IF('Øvelse_05 (2)'!O19=1,\"OK!\",\"-\"))","v":""}]
[null,17,"µ*µ",10,null,"*",10,null,"=",10,null,null,{"$f":"IF(L21=\"\",\"\",IF('Øvelse_05 (2)'!O20=1,\"OK!\",\"-\"))","v":""}]
[null,18,"M*m",10,null,"*",10,null,"=",10,null,null,{"$f":"IF(L22=\"\",\"\",IF('Øvelse_05 (2)'!O21=1,\"OK!\",\"-\"))","v":""}]
[null,19,"n *G",10,null,"*",10,null,"=",10,null,null,{"$f":"IF(L23=\"\",\"\",IF('Øvelse_05 (2)'!O22=1,\"OK!\",\"-\"))","v":""}]
[null,20,"G*m",null,null,"*",10,null,"=",10,null,null,{"$f":"IF(L24=\"\",\"\",IF('Øvelse_05 (2)'!O23=1,\"OK!\",\"-\"))","v":""}]

{"sheet":"Øvelse_06","index":7,"n_rows":24,"n_cols":21,"rows_kept":24,"cut":false,"hidden":false,"merged":[]}
["Øvelse _06"]
[null,"Division af præfikser"]
[]
["Eksempel:",null,"m/k","=",10,-3,"/",10,3,"=",10,-6,"μ",null,null,null,"V","A","Ω","F","H"]
[null,1,"µ/k","=",10,null,"/",10,null,"=",10,null,null,{"$f":"IF(M5=\"\",\"\",IF('Øvelse_06 (2)'!P5=1,\"OK!\",\"-\"))","v":""}]
[null,2,"k/M","=",10,null,"/",10,null,"=",10,null,null,{"$f":"IF(M6=\"\",\"\",IF('Øvelse_06 (2)'!P6=1,\"OK!\",\"-\"))","v":""},null,"T","TV","TA","TΩ","TF","TH"]
[null,3,"E/p","=",10,null,"/",10,null,"=",10,null,null,{"$f":"IF(M7=\"\",\"\",IF('Øvelse_06 (2)'!P7=1,\"OK!\",\"-\"))","v":""},null,"G","GV","GA","GΩ","GF","GH"]
[null,4,"m/k ","=",10,null,"/",10,null,"=",10,null,null,{"$f":"IF(M8=\"\",\"\",IF('Øvelse_06 (2)'!P8=1,\"OK!\",\"-\"))","v":""},null,"M","MV","MA","MΩ","MF","MH"]
[null,5,"T/M","=",10,null,"/",10,null,"=",10,null,null,{"$f":"IF(M9=\"\",\"\",IF('Øvelse_06 (2)'!P9=1,\"OK!\",\"-\"))","v":""},null,"k","kV","kA","kΩ","kF","kH"]
[null,6,"µ/p","=",10,null,"/",10,null,"=",10,null,null,{"$f":"IF(M10=\"\",\"\",IF('Øvelse_06 (2)'!P10=1,\"OK!\",\"-\"))","v":""},null,null,"E","E","E","E","E"]
[null,7,"k/m ","=",10,null,"/",10,null,"=",10,null,null,{"$f":"IF(M11=\"\",\"\",IF('Øvelse_06 (2)'!P11=1,\"OK!\",\"-\"))","v":""},null,"m","mV","mA","mΩ","mF","mH"]
[null,8,"m/m","=",10,null,"/",10,null,"=",10,null,null,{"$f":"IF(M12=\"\",\"\",IF('Øvelse_06 (2)'!P12=1,\"OK!\",\"-\"))","v":""},null,"μ","μV","μA","μΩ","μF","μH"]
[null,9,"n/m","=",10,null,"/",10,null,"=",10,null,null,{"$f":"IF(M13=\"\",\"\",IF('Øvelse_06 (2)'!P13=1,\"OK!\",\"-\"))","v":""},null,"n","nV","nA","nΩ","nF","nH"]
[null,10,"K/k","=",10,null,"/",10,null,"=",10,null,null,{"$f":"IF(M14=\"\",\"\",IF('Øvelse_06 (2)'!P14=1,\"OK!\",\"-\"))","v":""},null,"p","pV","pA","pΩ","pF","pH"]
[null,11,"G/k","=",10,null,"/",10,null,"=",10,null,null,{"$f":"IF(M15=\"\",\"\",IF('Øvelse_06 (2)'!P15=1,\"OK!\",\"-\"))","v":""}]
[null,12,"n/k","=",10,null,"/",10,null,"=",10,null,null,{"$f":"IF(M16=\"\",\"\",IF('Øvelse_06 (2)'!P16=1,\"OK!\",\"-\"))","v":""}]
[null,13,"M/k","=",10,null,"/",10,null,"=",10,null,null,{"$f":"IF(M17=\"\",\"\",IF('Øvelse_06 (2)'!P17=1,\"OK!\",\"-\"))","v":""}]
[null,14,"M/M","=",10,null,"/",10,null,"=",10,null,null,{"$f":"IF(M18=\"\",\"\",IF('Øvelse_06 (2)'!P18=1,\"OK!\",\"-\"))","v":""}]
[null,15,"E/E","=",10,null,"/",10,null,"=",10,null,null,{"$f":"IF(M19=\"\",\"\",IF('Øvelse_06 (2)'!P19=1,\"OK!\",\"-\"))","v":""}]
[null,16,"m/µ","=",10,null,"/",10,null,"=",10,null,null,{"$f":"IF(M20=\"\",\"\",IF('Øvelse_06 (2)'!P20=1,\"OK!\",\"-\"))","v":""}]
[null,17,"µ/µ","=",10,null,"/",10,null,"=",10,null,null,{"$f":"IF(M21=\"\",\"\",IF('Øvelse_06 (2)'!P21=1,\"OK!\",\"-\"))","v":""}]
[null,18,"M/G","=",10,null,"/",10,null,"=",10,null,null,{"$f":"IF(M22=\"\",\"\",IF('Øvelse_06 (2)'!P22=1,\"OK!\",\"-\"))","v":""}]
[null,19,"n/p","=",10,null,"/",10,null,"=",10,null,null,{"$f":"IF(M23=\"\",\"\",IF('Øvelse_06 (2)'!P23=1,\"OK!\",\"-\"))","v":""}]
[null,20,"G/T","=",10,null,"/",10,null,"=",10,null,null,{"$f":"IF(M24=\"\",\"\",IF('Øvelse_06 (2)'!P24=1,\"OK!\",\"-\"))","v":""}]

{"sheet":"Øvelse_07","index":8,"n_rows":39,"n_cols":7,"rows_kept":39,"cut":false,"hidden":false,"merged":[]}
["Øvelse _07"]
[null,"Omskrivning af præfikser"]
[]
[1,0.97,"V","=",null,"mV",{"$f":"IF(E4=\"\",\"\",IF('Øvelse_07 (2)'!I4=1,\"OK!\",\"-\"))","v":""}]
[2,0.33,"kv","=",null,"V",{"$f":"IF(E5=\"\",\"\",IF('Øvelse_07 (2)'!I5=1,\"OK!\",\"-\"))","v":""}]
[3,68,"µF","=",null,"nF",{"$f":"IF(E6=\"\",\"\",IF('Øvelse_07 (2)'!I6=1,\"OK!\",\"-\"))","v":""}]
[4,10000,"µF","=",null,"μF",{"$f":"IF(E7=\"\",\"\",IF('Øvelse_07 (2)'!I7=1,\"OK!\",\"-\"))","v":""}]
[5,10000,"µF","=",null,"nF",{"$f":"IF(E8=\"\",\"\",IF('Øvelse_07 (2)'!I8=1,\"OK!\",\"-\"))","v":""}]
[6,10,"mH","=",null,"H",{"$f":"IF(E9=\"\",\"\",IF('Øvelse_07 (2)'!I9=1,\"OK!\",\"-\"))","v":""}]
[7,300,"µH","=",null,"mH",{"$f":"IF(E10=\"\",\"\",IF('Øvelse_07 (2)'!I10=1,\"OK!\",\"-\"))","v":""}]
[8,820,"pF","=",null,"nF",{"$f":"IF(E11=\"\",\"\",IF('Øvelse_07 (2)'!I11=1,\"OK!\",\"-\"))","v":""}]
[9,820,"pF","=",null,"μF",{"$f":"IF(E12=\"\",\"\",IF('Øvelse_07 (2)'!I12=1,\"OK!\",\"-\"))","v":""}]
[10,10000,"V","=",null,"kV",{"$f":"IF(E13=\"\",\"\",IF('Øvelse_07 (2)'!I13=1,\"OK!\",\"-\"))","v":""}]
[11,25,"mV","=",null,"V",{"$f":"IF(E14=\"\",\"\",IF('Øvelse_07 (2)'!I14=1,\"OK!\",\"-\"))","v":""}]
[12,25,"mV","=",null,"μV",{"$f":"IF(E15=\"\",\"\",IF('Øvelse_07 (2)'!I15=1,\"OK!\",\"-\"))","v":""}]
[13,0.05,"V","=",null,"mV",{"$f":"IF(E16=\"\",\"\",IF('Øvelse_07 (2)'!I16=1,\"OK!\",\"-\"))","v":""}]
[14,0.05,"V","=",null,"μV",{"$f":"IF(E17=\"\",\"\",IF('Øvelse_07 (2)'!I17=1,\"OK!\",\"-\"))","v":""}]
[15,2.5000000000000001E-3,"A","=",null,"A",{"$f":"IF(E18=\"\",\"\",IF('Øvelse_07 (2)'!I18=1,\"OK!\",\"-\"))","v":""}]
[16,2.5000000000000001E-3,"A","=",null,"μA",{"$f":"IF(E19=\"\",\"\",IF('Øvelse_07 (2)'!I19=1,\"OK!\",\"-\"))","v":""}]
[17,2.0000000000000001E-4,"V","=",null,"mV",{"$f":"IF(E20=\"\",\"\",IF('Øvelse_07 (2)'!I20=1,\"OK!\",\"-\"))","v":""}]
[18,2000,"mV","=",null,"μV",{"$f":"IF(E21=\"\",\"\",IF('Øvelse_07 (2)'!I21=1,\"OK!\",\"-\"))","v":""}]
[19,2000,"mV","=",null,"V",{"$f":"IF(E22=\"\",\"\",IF('Øvelse_07 (2)'!I22=1,\"OK!\",\"-\"))","v":""}]
[20,3300,"Ω","=",null,"kΩ",{"$f":"IF(E23=\"\",\"\",IF('Øvelse_07 (2)'!I23=1,\"OK!\",\"-\"))","v":""}]
[21,470,"kΩ","=",null,"Ω",{"$f":"IF(E24=\"\",\"\",IF('Øvelse_07 (2)'!I24=1,\"OK!\",\"-\"))","v":""}]
[22,470,"kΩ","=",null,"MΩ",{"$f":"IF(E25=\"\",\"\",IF('Øvelse_07 (2)'!I25=1,\"OK!\",\"-\"))","v":""}]
[23,0.39,"V","=",null,"mV",{"$f":"IF(E26=\"\",\"\",IF('Øvelse_07 (2)'!I26=1,\"OK!\",\"-\"))","v":""}]
[24,18,"kV","=",null,"V",{"$f":"IF(E27=\"\",\"\",IF('Øvelse_07 (2)'!I27=1,\"OK!\",\"-\"))","v":""}]
[25,4700000,"Ω","=",null,"MΩ",{"$f":"IF(E28=\"\",\"\",IF('Øvelse_07 (2)'!I28=1,\"OK!\",\"-\"))","v":""}]
[26,4700000,"Ω","=",null,"kΩ",{"$f":"IF(E29=\"\",\"\",IF('Øvelse_07 (2)'!I29=1,\"OK!\",\"-\"))","v":""}]
[27,580,"μV","=",null,"mV",{"$f":"IF(E30=\"\",\"\",IF('Øvelse_07 (2)'!I30=1,\"OK!\",\"-\"))","v":""}]
[28,1000,"nF","=",null,"pF",{"$f":"IF(E31=\"\",\"\",IF('Øvelse_07 (2)'!I31=1,\"OK!\",\"-\"))","v":""}]
[29,1000,"nF","=",null,"μF",{"$f":"IF(E32=\"\",\"\",IF('Øvelse_07 (2)'!I32=1,\"OK!\",\"-\"))","v":""}]
[30,20,"kH","=",null,"H",{"$f":"IF(E33=\"\",\"\",IF('Øvelse_07 (2)'!I33=1,\"OK!\",\"-\"))","v":""}]
[31,38.9,"MH","=",null,"H",{"$f":"IF(E34=\"\",\"\",IF('Øvelse_07 (2)'!I34=1,\"OK!\",\"-\"))","v":""}]
[32,0.2,"kH","=",null,"H",{"$f":"IF(E35=\"\",\"\",IF('Øvelse_07 (2)'!I35=1,\"OK!\",\"-\"))","v":""}]
[33,2.1999999999999999E-2,"nF","=",null,"pF",{"$f":"IF(E36=\"\",\"\",IF('Øvelse_07 (2)'!I36=1,\"OK!\",\"-\"))","v":""}]
[34,1.5,"H","=",null,"mH",{"$f":"IF(E37=\"\",\"\",IF('Øvelse_07 (2)'!I37=1,\"OK!\",\"-\"))","v":""}]
[35,0.06,"A","=",null,"mA",{"$f":"IF(E38=\"\",\"\",IF('Øvelse_07 (2)'!I38=1,\"OK!\",\"-\"))","v":""}]
[36,6,"mA","=",null,"A",{"$f":"IF(E39=\"\",\"\",IF('Øvelse_07 (2)'!I39=1,\"OK!\",\"-\"))","v":""}]

{"sheet":"Øvelse_08","index":9,"n_rows":33,"n_cols":11,"rows_kept":33,"cut":false,"hidden":false,"merged":[]}
["Øvelse _08"]
[null,"Omskriv følgende:"]
[]
[null,2.7,"Ω","=",null,"mΩ","=",{"$f":"IF(E4=\"\",\"\",IF('Øvelse_08 (2)'!M4=1,\"OK!\",\"-\"))","v":""}]
[null,450,"μA","=",null,"mA","=",{"$f":"IF(E5=\"\",\"\",IF('Øvelse_08 (2)'!M5=1,\"OK!\",\"-\"))","v":""},null,"A",{"$f":"IF(I5=\"\",\"\",IF('Øvelse_08 (2)'!P5=1,\"OK!\",\"-\"))","v":""}]
[null,3200,"mA","=",null,"A","=",{"$f":"IF(E6=\"\",\"\",IF('Øvelse_08 (2)'!M6=1,\"OK!\",\"-\"))","v":""},null,"μA",{"$f":"IF(I6=\"\",\"\",IF('Øvelse_08 (2)'!P6=1,\"OK!\",\"-\"))","v":""}]
[null,50,"mV","=",null,"V","=",{"$f":"IF(E7=\"\",\"\",IF('Øvelse_08 (2)'!M7=1,\"OK!\",\"-\"))","v":""},null,"μV",{"$f":"IF(I7=\"\",\"\",IF('Øvelse_08 (2)'!P7=1,\"OK!\",\"-\"))","v":""}]
[null,4.7,"MΩ","=",null,"kΩ","=",{"$f":"IF(E8=\"\",\"\",IF('Øvelse_08 (2)'!M8=1,\"OK!\",\"-\"))","v":""},null,"Ω",{"$f":"IF(I8=\"\",\"\",IF('Øvelse_08 (2)'!P8=1,\"OK!\",\"-\"))","v":""}]
[null,0.15,"μF","=",null,"nF","=",{"$f":"IF(E9=\"\",\"\",IF('Øvelse_08 (2)'!M9=1,\"OK!\",\"-\"))","v":""},null,"pF",{"$f":"IF(I9=\"\",\"\",IF('Øvelse_08 (2)'!P9=1,\"OK!\",\"-\"))","v":""}]
[null,270,"MΩ","=",null,"Ω","=",{"$f":"IF(E10=\"\",\"\",IF('Øvelse_08 (2)'!M10=1,\"OK!\",\"-\"))","v":""}]
[null,110,"μH","=",null,"mH","=",{"$f":"IF(E11=\"\",\"\",IF('Øvelse_08 (2)'!M11=1,\"OK!\",\"-\"))","v":""},null,"H",{"$f":"IF(I11=\"\",\"\",IF('Øvelse_08 (2)'!P11=1,\"OK!\",\"-\"))","v":""}]
[null,25,"mV","=",null,"V","=",{"$f":"IF(E12=\"\",\"\",IF('Øvelse_08 (2)'!M12=1,\"OK!\",\"-\"))","v":""},null,"μV",{"$f":"IF(I12=\"\",\"\",IF('Øvelse_08 (2)'!P12=1,\"OK!\",\"-\"))","v":""}]
[null,470,"kΩ","=",null,"Ω","=",{"$f":"IF(E13=\"\",\"\",IF('Øvelse_08 (2)'!M13=1,\"OK!\",\"-\"))","v":""},null,"MΩ",{"$f":"IF(I13=\"\",\"\",IF('Øvelse_08 (2)'!P13=1,\"OK!\",\"-\"))","v":""}]
[null,820,"pF","=",null,"nF","=",{"$f":"IF(E14=\"\",\"\",IF('Øvelse_08 (2)'!M14=1,\"OK!\",\"-\"))","v":""},null,"μF",{"$f":"IF(I14=\"\",\"\",IF('Øvelse_08 (2)'!P14=1,\"OK!\",\"-\"))","v":""}]
[null,10000,"μF","=",null,"mF","=",{"$f":"IF(E15=\"\",\"\",IF('Øvelse_08 (2)'!M15=1,\"OK!\",\"-\"))","v":""},null,"nF",{"$f":"IF(I15=\"\",\"\",IF('Øvelse_08 (2)'!P15=1,\"OK!\",\"-\"))","v":""}]
[null,2.0000000000000001E-4,"V","=",null,"mV","=",{"$f":"IF(E16=\"\",\"\",IF('Øvelse_08 (2)'!M16=1,\"OK!\",\"-\"))","v":""},null,"μV",{"$f":"IF(I16=\"\",\"\",IF('Øvelse_08 (2)'!P16=1,\"OK!\",\"-\"))","v":""}]
[null,2.5000000000000001E-3,"A","=",null,"mA","=",{"$f":"IF(E17=\"\",\"\",IF('Øvelse_08 (2)'!M17=1,\"OK!\",\"-\"))","v":""},null,"μA",{"$f":"IF(I17=\"\",\"\",IF('Øvelse_08 (2)'!P17=1,\"OK!\",\"-\"))","v":""}]
[null,0.05,"A","=",null,"mA","=",{"$f":"IF(E18=\"\",\"\",IF('Øvelse_08 (2)'!M18=1,\"OK!\",\"-\"))","v":""},null,"μA",{"$f":"IF(I18=\"\",\"\",IF('Øvelse_08 (2)'!P18=1,\"OK!\",\"-\"))","v":""}]
[null,27,"kV","=",null,"V","=",{"$f":"IF(E19=\"\",\"\",IF('Øvelse_08 (2)'!M19=1,\"OK!\",\"-\"))","v":""}]
[null,1000,"nF","=",null,"pF","=",{"$f":"IF(E20=\"\",\"\",IF('Øvelse_08 (2)'!M20=1,\"OK!\",\"-\"))","v":""},null,"μF",{"$f":"IF(I20=\"\",\"\",IF('Øvelse_08 (2)'!P20=1,\"OK!\",\"-\"))","v":""}]
[null,20,"kH","=",null,"H","=",{"$f":"IF(E21=\"\",\"\",IF('Øvelse_08 (2)'!M21=1,\"OK!\",\"-\"))","v":""}]
[null,6.0000000000000001E-3,"A","=",null,"mA","=",{"$f":"IF(E22=\"\",\"\",IF('Øvelse_08 (2)'!M22=1,\"OK!\",\"-\"))","v":""}]
[null,1.5,"H","=",null,"mH","=",{"$f":"IF(E23=\"\",\"\",IF('Øvelse_08 (2)'!M23=1,\"OK!\",\"-\"))","v":""}]
[null,3300,"Ω","=",null,"kΩ","=",{"$f":"IF(E24=\"\",\"\",IF('Øvelse_08 (2)'!M24=1,\"OK!\",\"-\"))","v":""},null,"MΩ",{"$f":"IF(I24=\"\",\"\",IF('Øvelse_08 (2)'!P24=1,\"OK!\",\"-\"))","v":""}]
[null,2000,"mV","=",null,"μV","=",{"$f":"IF(E25=\"\",\"\",IF('Øvelse_08 (2)'!M25=1,\"OK!\",\"-\"))","v":""},null,"V",{"$f":"IF(I25=\"\",\"\",IF('Øvelse_08 (2)'!P25=1,\"OK!\",\"-\"))","v":""}]
[null,0.39,"Ω","=",null,"mΩ","=",{"$f":"IF(E26=\"\",\"\",IF('Øvelse_08 (2)'!M26=1,\"OK!\",\"-\"))","v":""}]
[null,2.2000000000000001E-3,"nF","=",null,"pF","=",{"$f":"IF(E27=\"\",\"\",IF('Øvelse_08 (2)'!M27=1,\"OK!\",\"-\"))","v":""}]
[null,9120000,"Ω","=",null,"MΩ","=",{"$f":"IF(E28=\"\",\"\",IF('Øvelse_08 (2)'!M28=1,\"OK!\",\"-\"))","v":""},null,"kΩ",{"$f":"IF(I28=\"\",\"\",IF('Øvelse_08 (2)'!P28=1,\"OK!\",\"-\"))","v":""}]
[null,4700,"V","=",null,"kV","=",{"$f":"IF(E29=\"\",\"\",IF('Øvelse_08 (2)'!M29=1,\"OK!\",\"-\"))","v":""}]
[null,320,"mV","=",null,"V","=",{"$f":"IF(E30=\"\",\"\",IF('Øvelse_08 (2)'!M30=1,\"OK!\",\"-\"))","v":""},null,"μV",{"$f":"IF(I30=\"\",\"\",IF('Øvelse_08 (2)'!P30=1,\"OK!\",\"-\"))","v":""}]
[null,1500,"mA","=",null,"μA","=",{"$f":"IF(E31=\"\",\"\",IF('Øvelse_08 (2)'!M31=1,\"OK!\",\"-\"))","v":""},null,"A",{"$f":"IF(I31=\"\",\"\",IF('Øvelse_08 (2)'!P31=1,\"OK!\",\"-\"))","v":""}]
[null,0.47,"nF","=",null,"μF","=",{"$f":"IF(E32=\"\",\"\",IF('Øvelse_08 (2)'!M32=1,\"OK!\",\"-\"))","v":""},null,"pF",{"$f":"IF(I32=\"\",\"\",IF('Øvelse_08 (2)'!P32=1,\"OK!\",\"-\"))","v":""}]
[null,6800,"Ω","=",null,"kΩ","=",{"$f":"IF(E33=\"\",\"\",IF('Øvelse_08 (2)'!M33=1,\"OK!\",\"-\"))","v":""}]

{"sheet":"Øvelse_09","index":10,"n_rows":28,"n_cols":11,"rows_kept":28,"cut":false,"hidden":false,"merged":[]}
["Øvelse _09"]
[null,"Omskriv følgende:"]
[]
[null,920,"Ω","=",null,"kΩ",{"$f":"IF(E4=\"\",\"\",IF('Øvelse_09 (2)'!L4=1,\"OK!\",\"-\"))","v":""},"="]
[null,4700000,"Ω","=",null,"kΩ",{"$f":"IF(E5=\"\",\"\",IF('Øvelse_09 (2)'!L5=1,\"OK!\",\"-\"))","v":""},"=",null,"MΩ",{"$f":"IF(I5=\"\",\"\",IF('Øvelse_09 (2)'!O5=1,\"OK!\",\"-\"))","v":""}]
[null,220,"μF","=",null,"mF",{"$f":"IF(E6=\"\",\"\",IF('Øvelse_09 (2)'!L6=1,\"OK!\",\"-\"))","v":""},"=",null,null,{"$f":"IF(I6=\"\",\"\",IF('Øvelse_09 (2)'!O6=1,\"OK!\",\"-\"))","v":""}]
[null,3,"A","=",null,"mA",{"$f":"IF(E7=\"\",\"\",IF('Øvelse_09 (2)'!L7=1,\"OK!\",\"-\"))","v":""},"=",null,null,{"$f":"IF(I7=\"\",\"\",IF('Øvelse_09 (2)'!O7=1,\"OK!\",\"-\"))","v":""}]
[null,3.0000000000000001E-3,"A","=",null,"μA",{"$f":"IF(E8=\"\",\"\",IF('Øvelse_09 (2)'!L8=1,\"OK!\",\"-\"))","v":""},"=",null,"mA",{"$f":"IF(I8=\"\",\"\",IF('Øvelse_09 (2)'!O8=1,\"OK!\",\"-\"))","v":""}]
[null,0.02,"V","=",null,"mV",{"$f":"IF(E9=\"\",\"\",IF('Øvelse_09 (2)'!L9=1,\"OK!\",\"-\"))","v":""},"=",null,"μV",{"$f":"IF(I9=\"\",\"\",IF('Øvelse_09 (2)'!O9=1,\"OK!\",\"-\"))","v":""}]
[null,680,"mH","=",null,"H",{"$f":"IF(E10=\"\",\"\",IF('Øvelse_09 (2)'!L10=1,\"OK!\",\"-\"))","v":""},"="]
[null,2200000,"pF","=",null,"nF",{"$f":"IF(E11=\"\",\"\",IF('Øvelse_09 (2)'!L11=1,\"OK!\",\"-\"))","v":""},"=",null,"μF",{"$f":"IF(I11=\"\",\"\",IF('Øvelse_09 (2)'!O11=1,\"OK!\",\"-\"))","v":""}]
[null,3200,"mA","=",null,"μA",{"$f":"IF(E12=\"\",\"\",IF('Øvelse_09 (2)'!L12=1,\"OK!\",\"-\"))","v":""},"=",null,"A",{"$f":"IF(I12=\"\",\"\",IF('Øvelse_09 (2)'!O12=1,\"OK!\",\"-\"))","v":""}]
[null,220,"mΩ","=",null,"Ω",{"$f":"IF(E13=\"\",\"\",IF('Øvelse_09 (2)'!L13=1,\"OK!\",\"-\"))","v":""},"="]
[null,1,"nF","=",null,"pF",{"$f":"IF(E14=\"\",\"\",IF('Øvelse_09 (2)'!L14=1,\"OK!\",\"-\"))","v":""},"="]
[null,0.47,"Ω","=",null,"mΩ",{"$f":"IF(E15=\"\",\"\",IF('Øvelse_09 (2)'!L15=1,\"OK!\",\"-\"))","v":""},"="]
[null,96.5,"MH","=",null,"kH",{"$f":"IF(E16=\"\",\"\",IF('Øvelse_09 (2)'!L16=1,\"OK!\",\"-\"))","v":""},"=",null,"H",{"$f":"IF(I16=\"\",\"\",IF('Øvelse_09 (2)'!O16=1,\"OK!\",\"-\"))","v":""}]
[null,33,"mV","=",null,"V",{"$f":"IF(E17=\"\",\"\",IF('Øvelse_09 (2)'!L17=1,\"OK!\",\"-\"))","v":""},"=",null,"μV",{"$f":"IF(I17=\"\",\"\",IF('Øvelse_09 (2)'!O17=1,\"OK!\",\"-\"))","v":""}]
[null,1450,"kH","=",null,"kH",{"$f":"IF(E18=\"\",\"\",IF('Øvelse_09 (2)'!L18=1,\"OK!\",\"-\"))","v":""},"=",null,"kH",{"$f":"IF(I18=\"\",\"\",IF('Øvelse_09 (2)'!O18=1,\"OK!\",\"-\"))","v":""}]
[null,750,"mV","=",null,"kV",{"$f":"IF(E19=\"\",\"\",IF('Øvelse_09 (2)'!L19=1,\"OK!\",\"-\"))","v":""},"=",null,"V",{"$f":"IF(I19=\"\",\"\",IF('Øvelse_09 (2)'!O19=1,\"OK!\",\"-\"))","v":""}]
[null,22,"kV","=",null,"V",{"$f":"IF(E20=\"\",\"\",IF('Øvelse_09 (2)'!L20=1,\"OK!\",\"-\"))","v":""},"="]
[null,0.25,"mA","=",null,"μA",{"$f":"IF(E21=\"\",\"\",IF('Øvelse_09 (2)'!L21=1,\"OK!\",\"-\"))","v":""},"=",null,"A",{"$f":"IF(I21=\"\",\"\",IF('Øvelse_09 (2)'!O21=1,\"OK!\",\"-\"))","v":""}]
[null,100,"mΩ","=",null,"Ω",{"$f":"IF(E22=\"\",\"\",IF('Øvelse_09 (2)'!L22=1,\"OK!\",\"-\"))","v":""},"="]
[null,47,"pF","=",null,"nF",{"$f":"IF(E23=\"\",\"\",IF('Øvelse_09 (2)'!L23=1,\"OK!\",\"-\"))","v":""},"="]
[null,180,"nF","=",null,"μF",{"$f":"IF(E24=\"\",\"\",IF('Øvelse_09 (2)'!L24=1,\"OK!\",\"-\"))","v":""},"=",null,"pF",{"$f":"IF(I24=\"\",\"\",IF('Øvelse_09 (2)'!O24=1,\"OK!\",\"-\"))","v":""}]
[null,5600000,"Ω","=",null,"MΩ",{"$f":"IF(E25=\"\",\"\",IF('Øvelse_09 (2)'!L25=1,\"OK!\",\"-\"))","v":""},"=",null,"kΩ",{"$f":"IF(I25=\"\",\"\",IF('Øvelse_09 (2)'!O25=1,\"OK!\",\"-\"))","v":""}]
[null,9.1,"kΩ","=",null,"Ω",{"$f":"IF(E26=\"\",\"\",IF('Øvelse_09 (2)'!L26=1,\"OK!\",\"-\"))","v":""},"="]
[null,33,"nF","=",null,"pF",{"$f":"IF(E27=\"\",\"\",IF('Øvelse_09 (2)'!L27=1,\"OK!\",\"-\"))","v":""},"=",null,"μF",{"$f":"IF(I27=\"\",\"\",IF('Øvelse_09 (2)'!O27=1,\"OK!\",\"-\"))","v":""}]
[null,1250,"mV","=",null,"kV",{"$f":"IF(E28=\"\",\"\",IF('Øvelse_09 (2)'!L28=1,\"OK!\",\"-\"))","v":""},"=",null,"V",{"$f":"IF(I28=\"\",\"\",IF('Øvelse_09 (2)'!O28=1,\"OK!\",\"-\"))","v":""}]

{"sheet":"Øvelse_01 (2)","index":11,"n_rows":13,"n_cols":10,"rows_kept":13,"cut":false,"hidden":true,"merged":[]}
["Øvelse _01"]
[]
[null,"Anvend den viste fremgangsmåde:"]
[]
[null,null,null,null,"Svar",null,"Løsning",null,"Rigtig/forkert"]
[null,null,null,null,"Antal","Præfiks","Antal","Præfiks","0/1"]
[null,1000,"V","=",{"$f":"Øvelse_01!E7","v":0},"kV",1,"kV",{"$f":"IF(E7=G7,1,0)","v":0}]
[null,1E-3,"A","=",{"$f":"Øvelse_01!E8","v":0},"mA",1,"mA",{"$f":"IF(E8=G8,1,0)","v":0}]
[null,9.9999999999999995E-7,"A","=",{"$f":"Øvelse_01!E9","v":0},"µA",1,"µA",0]
[null,2.2999999999999999E-7,"F","=",{"$f":"Øvelse_01!E10","v":0},"nF",230,"nF",0]
[]
[null,null,null,null,null,null,null,null,"I alt",{"$f":"SUM(I7:I11)","v":0}]
[null,null,null,null,null,null,null,null,"%",{"$f":"J12/4","v":0}]

{"sheet":"Øvelse_02 (2)","index":12,"n_rows":12,"n_cols":12,"rows_kept":12,"cut":false,"hidden":true,"merged":[]}
["Øvelse _02"]
[null,"Beregn eksponenten:",null,null,null,null,null,null,null,"Løsning","Rigtig/forkert"]
[null,null,null,null,null,null,null,null,null,"Eksponent","0/1"]
[null,10,2,"*",10,4,"=",10,6]
[null,10,3,"*",10,7,"=",10,{"$f":"Øvelse_02!I5","v":0},10,{"$f":"IF(I5=J5,1,0)","v":0}]
[null,10,8,"*",10,1,"=",10,{"$f":"Øvelse_02!I6","v":0},9,{"$f":"IF(I6=J6,1,0)","v":0}]
[null,10,3,"*",10,-2,"=",10,{"$f":"Øvelse_02!I7","v":0},1,0]
[null,10,4,"*",10,-3,"=",10,{"$f":"Øvelse_02!I8","v":0},1,0]
[null,10,8,"*",10,-3,"=",10,{"$f":"Øvelse_02!I9","v":0},5,0]
[null,null,null,null,null,null,null,null," "]
[null,null,null,null,null,null,null,null,null,null,"I alt",{"$f":"SUM(K5:K9)","v":0}]
[null,null,null,null,null,null,null,null," ",null,"%",{"$f":"L11/5","v":0}]

{"sheet":"Øvelse_03 (2)","index":13,"n_rows":20,"n_cols":9,"rows_kept":20,"cut":false,"hidden":true,"merged":[[12,3,13,3],[12,4,13,4],[15,3,16,3],[15,4,16,4],[3,3,4,3],[3,4,4,4],[6,3,7,3],[6,4,7,4],[9,3,10,3],[9,4,10,4]]}
["Øvelse _03"]
[null,"Beregn eksponenten:",null,null,null,null,"Løsning","Rigtig/forkert"]
[null,null,null,null,null,null,"Eksponent","0/1"]
["Eksempel:",10,5,"=",10,2]
[null,10,3]
[]
[null,10,8,"=",10,{"$f":"Øvelse_03!F7","v":0},4,{"$f":"IF(F7=G7,1,0)","v":0}]
[null,10,4]
[]
[null,10,3,"=",10,{"$f":"Øvelse_03!F10","v":0},5,{"$f":"IF(F10=G10,1,0)","v":0}]
[null,10,-2]
[]
[null,10,2,"=",10,{"$f":"Øvelse_03!F13","v":0},8,{"$f":"IF(F13=G13,1,0)","v":0}]
[null,10,-6]
[]
[null,10,6,"=",10,{"$f":"Øvelse_03!F16","v":0},4,{"$f":"IF(F16=G16,1,0)","v":0}]
[null,10,2]
[]
[null,null,null,null,null,null,null,"I alt",{"$f":"SUM(H7:H17)","v":0}]
[null,null,null,null,null,null,null,"%",{"$f":"I19/4","v":0}]

{"sheet":"Øvelse_04 (2)","index":14,"n_rows":19,"n_cols":28,"rows_kept":19,"cut":false,"hidden":true,"merged":[[7,17,8,17],[7,18,8,18],[7,20,8,20],[10,14,11,14],[10,17,11,17],[10,18,11,18],[10,20,11,20],[7,14,8,14],[10,2,11,2],[10,5,11,5],[10,6,11,6],[10,8,11,8],[4,2,5,2],[4,5,5,5],[4,6,5,6],[4,8,5,8],[4,9,5,9],[7,2,8,2],[7,5,8,5],[7,6,8,6],[7,8,8,8]]}
["Øvelse _04"]
[]
[null,"Beregn følgende præfikser:"]
[]
["Eksempel:","M","=",10,6,"=",10,3,"=","k"]
[null,"k",null,10,3,null,null,null,null,null,null,null,null,null,null,null,null,null,null,null,null,null,null,null,null,null,"Rigtig/forkert"]
[null,null,null,null,null,null,null,null,null,null,null,null,null,"Løsninger:",null,null,null,null,null,null,null,null,null,null,null,null,"0/1"]
[null,"m","=",10,{"$f":"Øvelse_04!E8","v":0},"=",10,{"$f":"Øvelse_04!H8","v":0},"=",{"$f":"Øvelse_04!J8","v":0},null,null,null,"m","=",10,-3,"=",10,3,"=","k",null,null,null,null,{"$f":"IF(J8=V8,1,0)","v":0}]
[null,"μ",null,10,{"$f":"Øvelse_04!E9","v":0},null,null,null,null,null,null,null,null,"μ",null,10,-6]
[]
[null,"m","=",10,{"$f":"Øvelse_04!E11","v":0},"=",10,{"$f":"Øvelse_04!H11","v":0},"=",{"$f":"Øvelse_04!J11","v":0},null,null,null,"m","=",10,-3,"=",10,-9,"=","n",null,null,null,null,{"$f":"IF(J11=V11,1,0)","v":0}]
[null,"M",null,10,{"$f":"Øvelse_04!E12","v":0},null,null,null,null,null,null,null,null,"M",null,10,6]
[]
[null,"M*m","=",10,{"$f":"Øvelse_04!E14","v":0},"*",10,{"$f":"Øvelse_04!H14","v":0},"=",10,{"$f":"Øvelse_04!K14","v":0},"=",{"$f":"Øvelse_04!M14","v":0},"M*m","=",10,6,"*",10,-3,"=",10,3,"=","k",null,{"$f":"IF(M14=Y14,1,0)","v":0}]
[null,"k*μ","=",10,{"$f":"Øvelse_04!E15","v":0},"*",10,{"$f":"Øvelse_04!H15","v":0},"=",10,{"$f":"Øvelse_04!K15","v":0},"=",{"$f":"Øvelse_04!M15","v":0},"k*μ","=",10,3,"*",10,-6,"=",10,-3,"=","m",null,{"$f":"IF(M15=Y15,1,0)","v":0}]
[null,"μ*m","=",10,{"$f":"Øvelse_04!E16","v":0},"*",10,{"$f":"Øvelse_04!H16","v":0},"=",10,{"$f":"Øvelse_04!K16","v":0},"=",{"$f":"Øvelse_04!M16","v":0},"μ*m","=",10,-6,"*",10,-3,"=",10,-9,"=","n",null,0]
[]
[null,null,null,null,null,null,null,null,null,null,null,null,null,null,null,null,null,null,null,null,null,null,null,null,null,null,"I alt",{"$f":"SUM(AA8:AA16)","v":0}]
[null,null,null,null,null,null,null,null,null,null,null,null,null,null,null,null,null,null,null,null,null,null,null,null,null,null,"%",{"$f":"AB18/5","v":0}]

{"sheet":"Øvelse_05 (2)","index":15,"n_rows":26,"n_cols":16,"rows_kept":26,"cut":false,"hidden":true,"merged":[]}
["Øvelse _05"]
[null,"Multiplikation af præfikser.",null,null,null,null,null,null,null,null,null,null,null,null,"Rigtig/forkert"]
[null," ",null,null,null,null,null,null,null,null,null,"Præfiks",null,"Løsning:","0/1"]
[null,1,"µ*k",10,{"$f":"Øvelse_05!E5","v":0},"*",10,{"$f":"Øvelse_05!H5","v":0},"=",10,{"$f":"Øvelse_05!K5","v":0},{"$f":"Øvelse_05!L5","v":0},null,"m",{"$f":"IF(L4=N4,1,0)","v":0}]
[null,2,"K*M",10,{"$f":"Øvelse_05!E6","v":0},"*",10,{"$f":"Øvelse_05!H6","v":0},"=",10,{"$f":"Øvelse_05!K6","v":0},{"$f":"Øvelse_05!L6","v":0},null,"G",{"$f":"IF(L5=N5,1,0)","v":0}]
[null,3,"G*p",10,{"$f":"Øvelse_05!E7","v":0},"*",10,{"$f":"Øvelse_05!H7","v":0},"=",10,{"$f":"Øvelse_05!K7","v":0},{"$f":"Øvelse_05!L7","v":0},null,"m",{"$f":"IF(L6=N6,1,0)","v":0}]
[null,4,"M*n",10,{"$f":"Øvelse_05!E8","v":0},"*",10,{"$f":"Øvelse_05!H8","v":0},"=",10,{"$f":"Øvelse_05!K8","v":0},{"$f":"Øvelse_05!L8","v":0},null,"m",0]
[null,5,"k*p ",10,{"$f":"Øvelse_05!E9","v":0},"*",10,{"$f":"Øvelse_05!H9","v":0},"=",10,{"$f":"Øvelse_05!K9","v":0},{"$f":"Øvelse_05!L9","v":0},null,"n",0]
[null,6,"µ*p",10,{"$f":"Øvelse_05!E10","v":0},"*",10,{"$f":"Øvelse_05!H10","v":0},"=",10,{"$f":"Øvelse_05!K10","v":0},{"$f":"Øvelse_05!L10","v":0},null,"a",0]
[null,7,"M*µ",10,{"$f":"Øvelse_05!E11","v":0},"*",10,{"$f":"Øvelse_05!H11","v":0},"=",10,{"$f":"Øvelse_05!K11","v":0},{"$f":"Øvelse_05!L11","v":0},null,"E",0]
[null,8,"m *m",10,{"$f":"Øvelse_05!E12","v":0},"*",10,{"$f":"Øvelse_05!H12","v":0},"=",10,{"$f":"Øvelse_05!K12","v":0},{"$f":"Øvelse_05!L12","v":0},null,"μ",0]
[null,9,"p*E",10,{"$f":"Øvelse_05!E13","v":0},"*",10,{"$f":"Øvelse_05!H13","v":0},"=",10,{"$f":"Øvelse_05!K13","v":0},{"$f":"Øvelse_05!L13","v":0},null,"p",0]
[null,10,"K*k",10,{"$f":"Øvelse_05!E14","v":0},"*",10,{"$f":"Øvelse_05!H14","v":0},"=",10,{"$f":"Øvelse_05!K14","v":0},{"$f":"Øvelse_05!L14","v":0},null,"M",0]
[null,11,"p*T",10,{"$f":"Øvelse_05!E15","v":0},"*",10,{"$f":"Øvelse_05!H15","v":0},"=",10,{"$f":"Øvelse_05!K15","v":0},{"$f":"Øvelse_05!L15","v":0},null,"E",0]
[null,12,"n * k ",10,{"$f":"Øvelse_05!E16","v":0},"*",10,{"$f":"Øvelse_05!H16","v":0},"=",10,{"$f":"Øvelse_05!K16","v":0},{"$f":"Øvelse_05!L16","v":0},null,"μ",0]
[null,13,"µ*E",10,{"$f":"Øvelse_05!E17","v":0},"*",10,{"$f":"Øvelse_05!H17","v":0},"=",10,{"$f":"Øvelse_05!K17","v":0},{"$f":"Øvelse_05!L17","v":0},null,"μ",0]
[null,14,"M*M",10,{"$f":"Øvelse_05!E18","v":0},"*",10,{"$f":"Øvelse_05!H18","v":0},"=",10,{"$f":"Øvelse_05!K18","v":0},{"$f":"Øvelse_05!L18","v":0},null,"T",0]
[null,15,"E*E",10,{"$f":"Øvelse_05!E19","v":0},"*",10,{"$f":"Øvelse_05!H19","v":0},"=",10,{"$f":"Øvelse_05!K19","v":0},{"$f":"Øvelse_05!L19","v":0},null,"E",0]
[null,16,"m *µ",10,{"$f":"Øvelse_05!E20","v":0},"*",10,{"$f":"Øvelse_05!H20","v":0},"=",10,{"$f":"Øvelse_05!K20","v":0},{"$f":"Øvelse_05!L20","v":0},null,"n",0]
[null,17,"µ*µ",10,{"$f":"Øvelse_05!E21","v":0},"*",10,{"$f":"Øvelse_05!H21","v":0},"=",10,{"$f":"Øvelse_05!K21","v":0},{"$f":"Øvelse_05!L21","v":0},null,"p",0]
[null,18,"M*m",10,{"$f":"Øvelse_05!E22","v":0},"*",10,{"$f":"Øvelse_05!H22","v":0},"=",10,{"$f":"Øvelse_05!K22","v":0},{"$f":"Øvelse_05!L22","v":0},null,"k",0]
[null,19,"n *G",10,{"$f":"Øvelse_05!E23","v":0},"*",10,{"$f":"Øvelse_05!H23","v":0},"=",10,{"$f":"Øvelse_05!K23","v":0},{"$f":"Øvelse_05!L23","v":0},null,"E",0]
[null,20,"G*m",null,{"$f":"Øvelse_05!E24","v":0},"*",10,{"$f":"Øvelse_05!H24","v":0},"=",10,{"$f":"Øvelse_05!K24","v":0},{"$f":"Øvelse_05!L24","v":0},null,"M",0]
[]
[null,null,null,null,null,null,null,null,null,null,null,null,null,null,"I alt",{"$f":"SUM(O4:O23)","v":0}]
[null,null,null,null,null,null,null,null,null,null,null,null,null,null,"%",{"$f":"P25/20","v":0}]

{"sheet":"Øvelse_06 (2)","index":16,"n_rows":27,"n_cols":17,"rows_kept":27,"cut":false,"hidden":true,"merged":[]}
["Øvelse _06"]
[null,"Division af præfikser"]
[null,null,null,null,null,null,null,null,null,null,null,null,null,null,null,"Rigtig/forkert"]
["Eksempel:",null,"m/k","=",10,-3,"/",10,3,"=",10,-6,"μ",null,"Løsning:","0/1"]
[null,1,"µ/k","=",10,{"$f":"Øvelse_06!F5","v":0},"/",10,{"$f":"Øvelse_06!I5","v":0},"=",10,{"$f":"Øvelse_06!L5","v":0},{"$f":"Øvelse_06!M5","v":0},null,"n",{"$f":"IF(M5=O5,1,0)","v":0}]
[null,2,"k/M","=",10,{"$f":"Øvelse_06!F6","v":0},"/",10,{"$f":"Øvelse_06!I6","v":0},"=",10,{"$f":"Øvelse_06!L6","v":0},{"$f":"Øvelse_06!M6","v":0},null,"m",{"$f":"IF(M6=O6,1,0)","v":0}]
[null,3,"E/p","=",10,{"$f":"Øvelse_06!F7","v":0},"/",10,{"$f":"Øvelse_06!I7","v":0},"=",10,{"$f":"Øvelse_06!L7","v":0},{"$f":"Øvelse_06!M7","v":0},null,"T",{"$f":"IF(M7=O7,1,0)","v":0}]
[null,4,"m/k ","=",10,{"$f":"Øvelse_06!F8","v":0},"/",10,{"$f":"Øvelse_06!I8","v":0},"=",10,{"$f":"Øvelse_06!L8","v":0},{"$f":"Øvelse_06!M8","v":0},null,"μ",0]
[null,5,"T/M","=",10,{"$f":"Øvelse_06!F9","v":0},"/",10,{"$f":"Øvelse_06!I9","v":0},"=",10,{"$f":"Øvelse_06!L9","v":0},{"$f":"Øvelse_06!M9","v":0},null,"M",0]
[null,6,"µ/p","=",10,{"$f":"Øvelse_06!F10","v":0},"/",10,{"$f":"Øvelse_06!I10","v":0},"=",10,{"$f":"Øvelse_06!L10","v":0},{"$f":"Øvelse_06!M10","v":0},null,"M",0]
[null,7,"k/m ","=",10,{"$f":"Øvelse_06!F11","v":0},"/",10,{"$f":"Øvelse_06!I11","v":0},"=",10,{"$f":"Øvelse_06!L11","v":0},{"$f":"Øvelse_06!M11","v":0},null,"M",0]
[null,8,"m/m","=",10,{"$f":"Øvelse_06!F12","v":0},"/",10,{"$f":"Øvelse_06!I12","v":0},"=",10,{"$f":"Øvelse_06!L12","v":0},{"$f":"Øvelse_06!M12","v":0},null,"E",0]
[null,9,"n/m","=",10,{"$f":"Øvelse_06!F13","v":0},"/",10,{"$f":"Øvelse_06!I13","v":0},"=",10,{"$f":"Øvelse_06!L13","v":0},{"$f":"Øvelse_06!M13","v":0},null,"μ",0]
[null,10,"K/k","=",10,{"$f":"Øvelse_06!F14","v":0},"/",10,{"$f":"Øvelse_06!I14","v":0},"=",10,{"$f":"Øvelse_06!L14","v":0},{"$f":"Øvelse_06!M14","v":0},null,"E",0]
[null,11,"G/k","=",10,{"$f":"Øvelse_06!F15","v":0},"/",10,{"$f":"Øvelse_06!I15","v":0},"=",10,{"$f":"Øvelse_06!L15","v":0},{"$f":"Øvelse_06!M15","v":0},null,"M",0]
[null,12,"n/k","=",10,{"$f":"Øvelse_06!F16","v":0},"/",10,{"$f":"Øvelse_06!I16","v":0},"=",10,{"$f":"Øvelse_06!L16","v":0},{"$f":"Øvelse_06!M16","v":0},null,"p",0]
[null,13,"M/k","=",10,{"$f":"Øvelse_06!F17","v":0},"/",10,{"$f":"Øvelse_06!I17","v":0},"=",10,{"$f":"Øvelse_06!L17","v":0},{"$f":"Øvelse_06!M17","v":0},null,"k",0]
[null,14,"M/M","=",10,{"$f":"Øvelse_06!F18","v":0},"/",10,{"$f":"Øvelse_06!I18","v":0},"=",10,{"$f":"Øvelse_06!L18","v":0},{"$f":"Øvelse_06!M18","v":0},null,"E",0]
[null,15,"E/E","=",10,{"$f":"Øvelse_06!F19","v":0},"/",10,{"$f":"Øvelse_06!I19","v":0},"=",10,{"$f":"Øvelse_06!L19","v":0},{"$f":"Øvelse_06!M19","v":0},null,"E",0]
[null,16,"m/µ","=",10,{"$f":"Øvelse_06!F20","v":0},"/",10,{"$f":"Øvelse_06!I20","v":0},"=",10,{"$f":"Øvelse_06!L20","v":0},{"$f":"Øvelse_06!M20","v":0},null,"k",0]
[null,17,"µ/µ","=",10,{"$f":"Øvelse_06!F21","v":0},"/",10,{"$f":"Øvelse_06!I21","v":0},"=",10,{"$f":"Øvelse_06!L21","v":0},{"$f":"Øvelse_06!M21","v":0},null,"E",0]
[null,18,"M/G","=",10,{"$f":"Øvelse_06!F22","v":0},"/",10,{"$f":"Øvelse_06!I22","v":0},"=",10,{"$f":"Øvelse_06!L22","v":0},{"$f":"Øvelse_06!M22","v":0},null,"m",0]
[null,19,"n/p","=",10,{"$f":"Øvelse_06!F23","v":0},"/",10,{"$f":"Øvelse_06!I23","v":0},"=",10,{"$f":"Øvelse_06!L23","v":0},{"$f":"Øvelse_06!M23","v":0},null,"k",0]
[null,20,"G/T","=",10,{"$f":"Øvelse_06!F24","v":0},"/",10,{"$f":"Øvelse_06!I24","v":0},"=",10,{"$f":"Øvelse_06!L24","v":0},{"$f":"Øvelse_06!M24","v":0},null,"m",0]
[]
[null,null,null,null,null,null,null,null,null,null,null,null,null,null,null,"I alt",{"$f":"SUM(P5:P24)","v":0}]
[null,null,null,null,null,null,null,null,null,null,null,null,null,null,null,"%",{"$f":"Q26/20","v":0}]

{"sheet":"Øvelse_07 (2)","index":17,"n_rows":42,"n_cols":10,"rows_kept":42,"cut":false,"hidden":true,"merged":[]}
["Øvelse _07"]
[null,"Omskrivning af præfikser",null,null,null,null,null,null,"Rigtig/forkert"]
[null,null,null,null,null,null,null,"Løsning:","0/1"]
[1,0.97,"V","=",{"$f":"Øvelse_07!E4","v":0},"mV",null,970,{"$f":"IF(E4=H4,1,0)","v":0}]
[2,0.33,"kv","=",{"$f":"Øvelse_07!E5","v":0},"V",null,330,{"$f":"IF(E5=H5,1,0)","v":0}]
[3,68,"µF","=",{"$f":"Øvelse_07!E6","v":0},"nF",null,68000,0]
[4,10000,"µF","=",{"$f":"Øvelse_07!E7","v":0},"μF",null,10000,0]
[5,10000,"µF","=",{"$f":"Øvelse_07!E8","v":0},"nF",null,10000000,0]
[6,10,"mH","=",{"$f":"Øvelse_07!E9","v":0},"H",null,0.01,0]
[7,300,"µH","=",{"$f":"Øvelse_07!E10","v":0},"mH",null,0.3,0]
[8,820,"pF","=",{"$f":"Øvelse_07!E11","v":0},"nF",null,0.82,0]
[9,820,"pF","=",{"$f":"Øvelse_07!E12","v":0},"μF",null,8.1999999999999998E-4,0]
[10,10000,"V","=",{"$f":"Øvelse_07!E13","v":0},"kV",null,10,0]
[11,25,"mV","=",{"$f":"Øvelse_07!E14","v":0},"V",null,2.5000000000000001E-2,0]
[12,25,"mV","=",{"$f":"Øvelse_07!E15","v":0},"μV",null,25000,0]
[13,0.05,"V","=",{"$f":"Øvelse_07!E16","v":0},"mV",null,50,0]
[14,0.05,"V","=",{"$f":"Øvelse_07!E17","v":0},"μV",null,50000,0]
[15,2.5000000000000001E-3,"A","=",{"$f":"Øvelse_07!E18","v":0},"A",null,2.5000000000000001E-3,0]
[16,2.5000000000000001E-3,"A","=",{"$f":"Øvelse_07!E19","v":0},"μA",null,2500,0]
[17,2.0000000000000001E-4,"V","=",{"$f":"Øvelse_07!E20","v":0},"mV",null,0.2,0]
[18,2000,"mV","=",{"$f":"Øvelse_07!E21","v":0},"μV",null,2000000,0]
[19,2000,"mV","=",{"$f":"Øvelse_07!E22","v":0},"V",null,2,0]
[20,3300,"Ω","=",{"$f":"Øvelse_07!E23","v":0},"kΩ",null,3.3,0]
[21,470,"kΩ","=",{"$f":"Øvelse_07!E24","v":0},"Ω",null,470000,0]
[22,470,"kΩ","=",{"$f":"Øvelse_07!E25","v":0},"MΩ",null,0.47,0]
[23,0.39,"V","=",{"$f":"Øvelse_07!E26","v":0},"mV",null,390,0]
[24,18,"kV","=",{"$f":"Øvelse_07!E27","v":0},"V",null,18000,0]
[25,4700000,"Ω","=",{"$f":"Øvelse_07!E28","v":0},"MΩ",null,4.7,0]
[26,4700000,"Ω","=",{"$f":"Øvelse_07!E29","v":0},"kΩ",null,4700,0]
[27,580,"μV","=",{"$f":"Øvelse_07!E30","v":0},"mV",null,0.57999999999999996,0]
[28,1000,"nF","=",{"$f":"Øvelse_07!E31","v":0},"pF",null,1000000,0]
[29,1000,"nF","=",{"$f":"Øvelse_07!E32","v":0},"μF",null,1,0]
[30,20,"kH","=",{"$f":"Øvelse_07!E33","v":0},"Hz",null,20000,0]
[31,38.9,"MH","=",{"$f":"Øvelse_07!E34","v":0},"Hz",null,38900000,0]
[32,0.2,"kH","=",{"$f":"Øvelse_07!E35","v":0},"Hz",null,200,0]
[33,2.1999999999999999E-2,"nF","=",{"$f":"Øvelse_07!E36","v":0},"pF",null,22,0]
[34,1.5,"H","=",{"$f":"Øvelse_07!E37","v":0},"mH",null,1500,0]
[35,0.06,"A","=",{"$f":"Øvelse_07!E38","v":0},"mA",null,60,0]
[36,6,"mA","=",{"$f":"Øvelse_07!E39","v":0},"A",null,6.0000000000000001E-3,0]
[]
[null,null,null,null,null,null,null,null,"I alt",{"$f":"SUM(I4:I39)","v":0}]
[null,null,null,null,null,null,null,null,"%",{"$f":"J41/36","v":0}]

{"sheet":"Øvelse_08 (2)","index":18,"n_rows":36,"n_cols":20,"rows_kept":36,"cut":false,"hidden":true,"merged":[]}
["Øvelse _08"]
[null,"Omskriv følgende:",null,null,null,null,null,null,null,null,null,null,"Rigtig/forkert",null,null,"Rigtig/forkert"]
[null,null,null,null,null,null,null,null,null,null,null,"Løsning:","0/1",null,"Løsning:","0/1"]
[null,2.7,"Ω","=",{"$f":"Øvelse_08!E4","v":0},"mΩ","=",null,null,null,null,2700,{"$f":"IF(E4=L4,1,0)","v":0}]
[null,450,"μA","=",{"$f":"Øvelse_08!E5","v":0},"mA","=",null,{"$f":"Øvelse_08!I5","v":0},"A",null,0.45,{"$f":"IF(E5=L5,1,0)","v":0},null,4.4999999999999999E-4,{"$f":"IF(I5=O5,1,0)","v":0}]
[null,3200,"mA","=",{"$f":"Øvelse_08!E6","v":0},"A","=",null,{"$f":"Øvelse_08!I6","v":0},"μA",null,3.2,0,null,3200000,{"$f":"IF(I6=O6,1,0)","v":0}]
[null,50,"mV","=",{"$f":"Øvelse_08!E7","v":0},"V","=",null,{"$f":"Øvelse_08!I7","v":0},"μV",null,0.05,0,null,50000,{"$f":"IF(I7=O7,1,0)","v":0}]
[null,4.7,"MΩ","=",{"$f":"Øvelse_08!E8","v":0},"kΩ","=",null,{"$f":"Øvelse_08!I8","v":0},"Ω",null,4700,0,null,4700000,{"$f":"IF(I8=O8,1,0)","v":0}]
[null,0.15,"μF","=",{"$f":"Øvelse_08!E9","v":0},"nF","=",null,{"$f":"Øvelse_08!I9","v":0},"pF",null,150,0,null,150000,{"$f":"IF(I9=O9,1,0)","v":0}]
[null,270,"MΩ","=",{"$f":"Øvelse_08!E10","v":0},"Ω","=",null,null,null,null,270000000,0]
[null,110,"μH","=",{"$f":"Øvelse_08!E11","v":0},"mH","=",null,{"$f":"Øvelse_08!I11","v":0},"H",null,0.11,0,null,1.1E-4,{"$f":"IF(I11=O11,1,0)","v":0}]
[null,25,"mV","=",{"$f":"Øvelse_08!E12","v":0},"V","=",null,{"$f":"Øvelse_08!I12","v":0},"μV",null,2.5000000000000001E-2,0,null,25000,0]
[null,470,"kΩ","=",{"$f":"Øvelse_08!E13","v":0},"Ω","=",null,{"$f":"Øvelse_08!I13","v":0},"MΩ",null,470000,0,null,0.47,0]
[null,820,"pF","=",{"$f":"Øvelse_08!E14","v":0},"nF","=",null,{"$f":"Øvelse_08!I14","v":0},"μF",null,0.82,0,null,8.1999999999999998E-4,0]
[null,10000,"μF","=",{"$f":"Øvelse_08!E15","v":0},"mF","=",null,{"$f":"Øvelse_08!I15","v":0},"nF",null,10,0,null,10000000,0]
[null,2.0000000000000001E-4,"V","=",{"$f":"Øvelse_08!E16","v":0},"mV","=",null,{"$f":"Øvelse_08!I16","v":0},"μV",null,0.2,0,null,200,0]
[null,2.5000000000000001E-3,"A","=",{"$f":"Øvelse_08!E17","v":0},"mA","=",null,{"$f":"Øvelse_08!I17","v":0},"μA",null,2.5,0,null,2500,0]
[null,0.05,"A","=",{"$f":"Øvelse_08!E18","v":0},"mA","=",null,{"$f":"Øvelse_08!I18","v":0},"μA",null,50,0,null,50000,0]
[null,27,"kV","=",{"$f":"Øvelse_08!E19","v":0},"V","=",null,null,null,null,27000,0]
[null,1000,"nF","=",{"$f":"Øvelse_08!E20","v":0},"pF","=",null,{"$f":"Øvelse_08!I20","v":0},"μF",null,1000000,0,null,1,{"$f":"IF(I20=O20,1,0)","v":0}]
[null,20,"kH","=",{"$f":"Øvelse_08!E21","v":0},"H","=",null,null,null,null,20000,0]
[null,6.0000000000000001E-3,"A","=",{"$f":"Øvelse_08!E22","v":0},"mA","=",null,null,null,null,6,0]
[null,1.5,"H","=",{"$f":"Øvelse_08!E23","v":0},"mH","=",null,null,null,null,1500,0]
[null,3300,"Ω","=",{"$f":"Øvelse_08!E24","v":0},"kΩ","=",null,{"$f":"Øvelse_08!I24","v":0},"MΩ",null,3.3,0,null,3.3E-3,{"$f":"IF(I24=O24,1,0)","v":0}]
[null,2000,"mV","=",{"$f":"Øvelse_08!E25","v":0},"μV","=",null,{"$f":"Øvelse_08!I25","v":0},"V",null,2000000,0,null,2,{"$f":"IF(I25=O25,1,0)","v":0}]
[null,0.39,"Ω","=",{"$f":"Øvelse_08!E26","v":0},"mΩ","=",null,null,null,null,390,0]
[null,2.2000000000000001E-3,"nF","=",{"$f":"Øvelse_08!E27","v":0},"pF","=",null,null,null,null,2.2000000000000002,0]
[null,9120000,"Ω","=",{"$f":"Øvelse_08!E28","v":0},"MΩ","=",null,{"$f":"Øvelse_08!I28","v":0},"kΩ",null,9.1199999999999992,0,null,9120,{"$f":"IF(I28=O28,1,0)","v":0}]
[null,4700,"V","=",{"$f":"Øvelse_08!E29","v":0},"kV","=",null,null,null,null,4.7,0]
[null,320,"mV","=",{"$f":"Øvelse_08!E30","v":0},"V","=",null,{"$f":"Øvelse_08!I30","v":0},"μV",null,0.32,0,null,320000,{"$f":"IF(I30=O30,1,0)","v":0}]
[null,1500,"mA","=",{"$f":"Øvelse_08!E31","v":0},"μA","=",null,{"$f":"Øvelse_08!I31","v":0},"A",null,1500000,0,null,1.5,{"$f":"IF(I31=O31,1,0)","v":0}]
[null,0.47,"nF","=",{"$f":"Øvelse_08!E32","v":0},"μF","=",null,{"$f":"Øvelse_08!I32","v":0},"pF",null,4.6999999999999999E-4,0,null,470,{"$f":"IF(I32=O32,1,0)","v":0}]
[null,6800,"Ω","=",{"$f":"Øvelse_08!E33","v":0},"kΩ","=",null,null,null,null,6.8,0]
[]
[null,null,null,null,null,null,null,null,null,null,null,null,"I alt",{"$f":"SUM(M4:M33)","v":0},null,"I alt",{"$f":"SUM(P4:P33)","v":0},null,"Total",{"$f":"N35+Q35","v":0}]
[null,null,null,null,null,null,null,null,null,null,null,null,"%",{"$f":"N35/30","v":0},null,"%",{"$f":"Q35/20","v":0},null,"%",{"$f":"T35/50","v":0}]

{"sheet":"Øvelse_09 (2)","index":19,"n_rows":31,"n_cols":19,"rows_kept":31,"cut":false,"hidden":true,"merged":[]}
["Øvelse _09"]
[null,"Omskriv følgende:",null,null,null,null,null,null,null,null,null,"Rigtig/forkert",null,null,"Rigtig/forkert"]
[null,null,null,null,null,null,null,null,null,null,"Løsning:","0/1",null,"Løsning:","0/1"]
[null,920,"Ω","=",{"$f":"Øvelse_09!E4","v":0},"kΩ","=",null,null,null,0.92,{"$f":"IF(E4=K4,1,0)","v":0}]
[null,4700000,"Ω","=",{"$f":"Øvelse_09!E5","v":0},"kΩ","=",{"$f":"Øvelse_09!I5","v":0},"MΩ",null,4700,{"$f":"IF(E5=K5,1,0)","v":0},null,4.7,{"$f":"IF(H5=N5,1,0)","v":0}]
[null,220,"μF","=",{"$f":"Øvelse_09!E6","v":0},"mF","=",null,null,null,0.22,0]
[null,3,"A","=",{"$f":"Øvelse_09!E7","v":0},"mA","=",null,null,null,3000,0]
[null,3.0000000000000001E-3,"A","=",{"$f":"Øvelse_09!E8","v":0},"μA","=",{"$f":"Øvelse_09!I8","v":0},"mA",null,3000,0,null,3,0]
[null,0.02,"V","=",{"$f":"Øvelse_09!E9","v":0},"mV","=",{"$f":"Øvelse_09!I9","v":0},"μV",null,20,0,null,20000,0]
[null,680,"mH","=",{"$f":"Øvelse_09!E10","v":0},"H","=",null,null,null,0.68,0]
[null,2200000,"pF","=",{"$f":"Øvelse_09!E11","v":0},"nF","=",{"$f":"Øvelse_09!I11","v":0},"μF",null,2200,0,null,2.2000000000000002,0]
[null,3200,"mA","=",{"$f":"Øvelse_09!E12","v":0},"μA","=",{"$f":"Øvelse_09!I12","v":0},"A",null,3200000,0,null,3.2,0]
[null,220,"mΩ","=",{"$f":"Øvelse_09!E13","v":0},"Ω","=",null,null,null,0.22,0]
[null,1,"nF","=",{"$f":"Øvelse_09!E14","v":0},"pF","=",null,null,null,1000,0]
[null,0.47,"Ω","=",{"$f":"Øvelse_09!E15","v":0},"mΩ","=",null,null,null,470,0]
[null,96.5,"MH","=",{"$f":"Øvelse_09!E16","v":0},"kH","=",{"$f":"Øvelse_09!I16","v":0},"H",null,96500,0,null,96500000,0]
[null,33,"mV","=",{"$f":"Øvelse_09!E17","v":0},"V","=",{"$f":"Øvelse_09!I17","v":0},"μV",null,3.3000000000000002E-2,0,null,33000,0]
[null,1450,"kH","=",{"$f":"Øvelse_09!E18","v":0},"kH","=",{"$f":"Øvelse_09!I18","v":0},"kH",null,1450,0,null,1450,0]
[null,750,"mV","=",{"$f":"Øvelse_09!E19","v":0},"kV","=",{"$f":"Øvelse_09!I19","v":0},"V",null,7.5000000000000002E-4,0,null,0.75,0]
[null,22,"kV","=",{"$f":"Øvelse_09!E20","v":0},"V","=",null,null,null,22000,0]
[null,0.25,"mA","=",{"$f":"Øvelse_09!E21","v":0},"μA","=",{"$f":"Øvelse_09!I21","v":0},"A",null,250,0,null,2.5000000000000001E-4,0]
[null,100,"mΩ","=",{"$f":"Øvelse_09!E22","v":0},"Ω","=",null,null,null,0.1,0]
[null,47,"pF","=",{"$f":"Øvelse_09!E23","v":0},"nF","=",null,null,null,4.7E-2,0]
[null,180,"nF","=",{"$f":"Øvelse_09!E24","v":0},"μF","=",{"$f":"Øvelse_09!I24","v":0},"pF",null,0.18,0,null,180000,0]
[null,5600000,"Ω","=",{"$f":"Øvelse_09!E25","v":0},"MΩ","=",{"$f":"Øvelse_09!I25","v":0},"kΩ",null,5.6,0,null,5600,0]
[null,9.1,"kΩ","=",{"$f":"Øvelse_09!E26","v":0},"Ω","=",null,null,null,9100,0]
[null,33,"nF","=",{"$f":"Øvelse_09!E27","v":0},"pF","=",{"$f":"Øvelse_09!I27","v":0},"μF",null,33000,0,null,3.3000000000000002E-2,0]
[null,1250,"mV","=",{"$f":"Øvelse_09!E28","v":0},"kV","=",{"$f":"Øvelse_09!I28","v":0},"V",null,1.25E-3,0,null,1.25,{"$f":"IF(H28=N28,1,0)","v":0}]
[]
[null,null,null,null,null,null,null,null,null,null,null,"I alt",{"$f":"SUM(L4:L28)","v":0},null,"I alt",{"$f":"SUM(O4:O28)","v":0},null,"Total",{"$f":"M30+P30","v":0}]
[null,null,null,null,null,null,null,null,null,null,null,"%",{"$f":"M30/25","v":0},null,"%",{"$f":"P30/14","v":0},null,"%",{"$f":"S30/39","v":0}]